BEGIN:VCALENDAR
VERSION:2.0
PRODID:-//PLM Financial Consulting - ECPv4.7.3//NONSGML v1.0//EN
CALSCALE:GREGORIAN
METHOD:PUBLISH
X-WR-CALNAME:PLM Financial Consulting
X-ORIGINAL-URL:https://www.plmconsultores.com.co
X-WR-CALDESC:Eventos para PLM Financial Consulting
BEGIN:VEVENT
DTSTART;TZID=America/Bogota:20181211T080000
DTEND;TZID=America/Bogota:20181211T170000
DTSTAMP:20260419T122923
CREATED:20181210T045037Z
LAST-MODIFIED:20250417T005714Z
UID:126-1544515200-1544547600@www.plmconsultores.com.co
SUMMARY:Seminario
DESCRIPTION:\n\n	\n		\n			diciembre 11		\n\n					\n				 @ 			\n			\n				8:00 am			\n		\n					\n				 – 			\n		\n					\n				5:00 pm			\n		\n			\n\n\n\n\nEste seminario es de prueba\n\n	\n					\n				\n					\n					Google Calendar				\n			\n							\n				\n					\n					Exportar iCal				\n			\n			\n\n\n\n	\n	\n\n	\n					Detalles		\n	\n	\n\n		\n			 Fecha: \n			\n				 11/12/2018 \n			\n\n			 Hora: \n			\n				\n					8:00 am – 5:00 pm				\n			\n\n		\n		\n        Categoría del Evento: Seminarios\n		\n		\n			\n\n	\n	\n\n\n	\n	\n\n	\n		Casa\n	\n\n	\n			\n			\n\ncasa\n	\n		\n		Cali\,\n\n	Colombia\n\n	57\n\n\n\n\n					\n	\n			4444444\n	\n	\n	\n	\n	\n\n\n	Relacionado\n
URL:https://www.plmconsultores.com.co/event/seminario/
LOCATION:Casa\, casa\, Cali\, Colombia\, 57
CATEGORIES:Seminarios
ATTACH;FMTTYPE=image/jpeg:https://www.plmconsultores.com.co/wp-content/uploads/Post2-e1544415785381.jpg
END:VEVENT
END:VCALENDAR